BEGIN:VCALENDAR
VERSION:2.0
PRODID:-//PSK Oberschwaben//ICS Export//DE
CALSCALE:GREGORIAN
BEGIN:VTIMEZONE
TZID:Europe/Berlin
X-LIC-LOCATION:Europe/Berlin
BEGIN:DAYLIGHT
TZOFFSETFROM:+0100
TZOFFSETTO:+0200
TZNAME:CEST
DTSTART:19700329T020000
RRULE:FREQ=YEARLY;BYMONTH=3;BYDAY=-1SU
END:DAYLIGHT
BEGIN:STANDARD
TZOFFSETFROM:+0200
TZOFFSETTO:+0100
TZNAME:CET
DTSTART:19701025T030000
RRULE:FREQ=YEARLY;BYMONTH=10;BYDAY=-1SU
END:STANDARD
END:VTIMEZONE
BEGIN:VEVENT
UID:5b95bad990499f8367842194e8fa866789b133bf@psk-oberschwaben.de
DTSTAMP:20260420T002335Z
DTSTART;VALUE=DATE:20260425
DTEND;VALUE=DATE:20260427
SUMMARY:📝 Anpassung des Sichtungswegs für den L- und M-Team Cup ab der Saison 2026 > L-Team Cup 2026
DESCRIPTION:Anpassung des Sichtungswegs für den L- und M-Team Cup ab der Saison 2026\n\nDer Disziplinausschuss Voltigieren des Pferdesportverbandes Baden-Württemberg hat die Weichen für die kommende Saison gestellt: Ab 2026 gibt es ein neues Sichtungsverfahren für den L- und M-Team Cup!\n\nNach intensiver Auswertung der Erfahrungen aus der vergangenen Saison und zahlreicher Rückmeldungen wurde beschlossen\, den Qualifikationsweg transparenter und sportlich fairer zu gestalten – mit dem klaren Ziel\, die Leistungsentwicklung der Teams nachhaltig zu fördern.\n\nDas ist neu:\nFür beide Cup-Formate werden künftig jeweils zwei Sichtungstermine angeboten:\n\n✅ M-Team Cup 2026\n\n\n	13.–14. Juni: Turnier Karlsruhe-Durlach\n	11.–12. Juli: Turnier Zaisenhausen\n\n\n✅ L-Team Cup 2026\n\n\n	25.–26. April: Turnier Leonberg\n	16.–17. Mai: Turnier Ehingen\n\n\nDie Sichtungen erfolgen – analog zum Verfahren der Deutschen Meisterschaften – unter Begleitung des zuständigen Sichtungsgremiums des Disziplinausschusses. Einzige Ausnahme: Ehingen\, hier übernimmt ein Ausschussmitglied die Sichtung vor Ort.\n\nUnser Tipp: Nutzt beide Termine! Wer ein Ersatzpferd vorstellen möchte\, kann dies auf die beiden Sichtungen verteilen.\n\nFür Fragen steht das Team des Disziplinausschusses Voltigieren jederzeit bereit.\n\n\n#VoltigierenBW #TeamCup2026 #PferdesportBW #VoltigierCup #Sichtung2026 #VoltigierLiebe #PferdesportVerband #VoltigierenMitLeidenschaft #SportImLändle #VoltigierCommunity #WPSV\n\nLink: Neuer Sichtungsweg für den L- und M-Team Cup 2026 20.11.2025 09:15:40 von Miriam Abel (https://www.pferdesport-bw.de/news-voltigieren/items/neuer-sichtungsweg-fuer-den-l-und-m-team-cup-2026.html)
LOCATION:Turnier Leonberg\, Turniergelände:  Reiterzentrum Tilgshäuslesweg 2\, 71229 Leonberg
ATTACH:https://www.pferdesport-bw.de/news-voltigieren/items/neuer-sichtungsweg-fuer-den-l-und-m-team-cup-2026.html
END:VEVENT
END:VCALENDAR
