BEGIN:VCALENDAR
VERSION:2.0
PRODID:-//PSK Oberschwaben//ICS Export//DE
CALSCALE:GREGORIAN
BEGIN:VTIMEZONE
TZID:Europe/Berlin
X-LIC-LOCATION:Europe/Berlin
BEGIN:DAYLIGHT
TZOFFSETFROM:+0100
TZOFFSETTO:+0200
TZNAME:CEST
DTSTART:19700329T020000
RRULE:FREQ=YEARLY;BYMONTH=3;BYDAY=-1SU
END:DAYLIGHT
BEGIN:STANDARD
TZOFFSETFROM:+0200
TZOFFSETTO:+0100
TZNAME:CET
DTSTART:19701025T030000
RRULE:FREQ=YEARLY;BYMONTH=10;BYDAY=-1SU
END:STANDARD
END:VTIMEZONE
BEGIN:VEVENT
UID:78ec2499d281c8ea8a24f376c0f186f8d66ad1b6@psk-oberschwaben.de
DTSTAMP:20260423T141533Z
DTSTART;TZID=Europe/Berlin:20260620T080000
DTEND;TZID=Europe/Berlin:20260621T180000
SUMMARY:🏆 WPSV - Württembergische Meisterschaft Voltigieren – Einzel & Mannschaft 🏆
DESCRIPTION:✨ Einladung zur Württembergischen Meisterschaft Voltigieren – Einzel & Mannschaft ✨\n\nLiebe Voltigierfreunde\,\n\nes ist soweit – die Württembergische Meisterschaft im Voltigieren steht vor der Tür!\nErlebt zwei Tage voller Eleganz\, Kraft und Teamgeist – sowohl im Einzel als auch in der Mannschaft.\n\n📅 Wann?\n20. – 21. Juni 2026\n\n📍 Wo?\nReit- und Fahrverein Ulm-Wiblingen e.V.\nSchleifmühleweg 51\, 89079 Ulm-Wiblingen\n\n🐴 Was erwartet euch?\n\n\n	Spannende Wettkämpfe auf höchstem Niveau\n	Die besten Voltigierer aus Württemberg\n	Meisterschaftsflair und jede Menge Emotionen\n\n\nKommt vorbei und feuert die Athleten an!\nWir freuen uns auf euch!\n\n\n \nLink: Württembergische Meisterschaft Voltigieren\, Einzel und Mannschaft Datum/Uhrzeit: 20.06.2026 – 21.06.2026 (https://www.wpsv.de/de/termine/terminleser/wuerttembergische-meisterschaft-voltigieren-einzel-und-mannschaft.html)
LOCATION:Reit- und Fahrverein Ulm-Wiblingen e.V.\, Schleifmühleweg 51\, 89079 Ulm-Wiblingen
ATTACH:https://www.wpsv.de/de/termine/terminleser/wuerttembergische-meisterschaft-voltigieren-einzel-und-mannschaft.html
END:VEVENT
END:VCALENDAR
