BEGIN:VCALENDAR
VERSION:2.0
PRODID:-//PSK Oberschwaben//ICS Export//DE
CALSCALE:GREGORIAN
BEGIN:VTIMEZONE
TZID:Europe/Berlin
X-LIC-LOCATION:Europe/Berlin
BEGIN:DAYLIGHT
TZOFFSETFROM:+0100
TZOFFSETTO:+0200
TZNAME:CEST
DTSTART:19700329T020000
RRULE:FREQ=YEARLY;BYMONTH=3;BYDAY=-1SU
END:DAYLIGHT
BEGIN:STANDARD
TZOFFSETFROM:+0200
TZOFFSETTO:+0100
TZNAME:CET
DTSTART:19701025T030000
RRULE:FREQ=YEARLY;BYMONTH=10;BYDAY=-1SU
END:STANDARD
END:VTIMEZONE
BEGIN:VEVENT
UID:03128051df8713fc6a90d2ba7d6786203839b238@psk-oberschwaben.de
DTSTAMP:20260423T130905Z
DTSTART;TZID=Europe/Berlin:20261003T080000
DTEND;TZID=Europe/Berlin:20261004T180000
SUMMARY:🏆 WPSV -  Württembergische Mannschaftsmeisterschaft Dressur & Springen 🏆
DESCRIPTION:🏅 Einladung zur Württembergischen Mannschaftsmeisterschaft Dressur & Springen 🏅\n\nLiebe Pferdesportfreunde\,\n\nes ist soweit – die Württembergische Mannschaftsmeisterschaft steht vor der Tür!\nErlebt zwei Tage voller Teamgeist\, Spannung und Spitzenleistungen in Dressur und Springen.\n\n📅 Wann?\n03. – 04. Oktober 2026\n\n📍 Wo?\nReit- und Fahrverein Weilheim an der Teck e.V.\nKornbergstraße 85\, 73235 Weilheim an der Teck\n\n✨ Was erwartet euch?\n\n\n	Packende Mannschaftswettbewerbe\n	Die besten Teams aus Württemberg aus den PSKs\n	Meisterschaftsflair und jede Menge Emotionen\n\n\nKommt vorbei und feuert eure Favoriten an!\nWir freuen uns auf euch!\n\n\n \nLink: Württembergische Mannschaftsmeisterschaft Dressur und Springen Datum/Uhrzeit: 03.10.2026 – 04.10.2026  Ort: RFV Weilheim/Teck (https://www.wpsv.de/de/termine/terminleser/wuerttembergische-mannschaftsmeisterschaft-dressur-und-springen-1319.html)
LOCATION:Reit- und Fahrvereins Weilheim an der Teck e.V.\, Kornbergstraße 85\, 73235 Weilheim an der Teck\, Baden-Württemberg.
ATTACH:https://www.wpsv.de/de/termine/terminleser/wuerttembergische-mannschaftsmeisterschaft-dressur-und-springen-1319.html
END:VEVENT
END:VCALENDAR
