BEGIN:VCALENDAR
VERSION:2.0
PRODID:-//PSK Oberschwaben//ICS Export//DE
CALSCALE:GREGORIAN
BEGIN:VTIMEZONE
TZID:Europe/Berlin
X-LIC-LOCATION:Europe/Berlin
BEGIN:DAYLIGHT
TZOFFSETFROM:+0100
TZOFFSETTO:+0200
TZNAME:CEST
DTSTART:19700329T020000
RRULE:FREQ=YEARLY;BYMONTH=3;BYDAY=-1SU
END:DAYLIGHT
BEGIN:STANDARD
TZOFFSETFROM:+0200
TZOFFSETTO:+0100
TZNAME:CET
DTSTART:19701025T030000
RRULE:FREQ=YEARLY;BYMONTH=10;BYDAY=-1SU
END:STANDARD
END:VTIMEZONE
BEGIN:VEVENT
UID:f97786762ee8f730d79900f21b7283ade635871f@psk-oberschwaben.de
DTSTAMP:20260423T130850Z
DTSTART;VALUE=DATE:20260502
DTEND;VALUE=DATE:20260504
SUMMARY:🌟 PSKO-Fahrlehrgang mit Susanne Leibetseder in Wolfegg
DESCRIPTION:Einladung zum Fahrlehrgang mit Susanne Leibetseder\n\n📍 Wo?\nReithalle Wolfegg\nAm Eisweiher 6\, 88364 Wolfegg\n\n🐴 Was erwartet dich?\n\n\n	2 x 45 Minuten Einzeltraining\n\n\n💰 Kosten:\n40 € pro Einheit\n\n📞 Infos & Anmeldung:\nAnna Grundmann– 015115206217\nPDF: https://psk-oberschwaben.de/site/assets/files/2241/fahrlehrgang_leibetseder_260502.pdf
LOCATION:RFV Wolfegg\, Eisweiher 1\, D - 88364 Wolfegg
ATTACH:https://psk-oberschwaben.de/site/assets/files/2241/fahrlehrgang_leibetseder_260502.pdf
END:VEVENT
END:VCALENDAR
