BEGIN:VCALENDAR
VERSION:2.0
PRODID:-//PSK Oberschwaben//ICS Export//DE
CALSCALE:GREGORIAN
BEGIN:VTIMEZONE
TZID:Europe/Berlin
X-LIC-LOCATION:Europe/Berlin
BEGIN:DAYLIGHT
TZOFFSETFROM:+0100
TZOFFSETTO:+0200
TZNAME:CEST
DTSTART:19700329T020000
RRULE:FREQ=YEARLY;BYMONTH=3;BYDAY=-1SU
END:DAYLIGHT
BEGIN:STANDARD
TZOFFSETFROM:+0200
TZOFFSETTO:+0100
TZNAME:CET
DTSTART:19701025T030000
RRULE:FREQ=YEARLY;BYMONTH=10;BYDAY=-1SU
END:STANDARD
END:VTIMEZONE
BEGIN:VEVENT
UID:a22fe520bd40b62a47e87799c27b5b326919e52a@psk-oberschwaben.de
DTSTAMP:20260423T130350Z
DTSTART;TZID=Europe/Berlin:20260530T080000
DTEND;TZID=Europe/Berlin:20260531T180000
SUMMARY:🌟 PSKO-Fahrlehrgang-Serie 2026 mit Claudia Gschwind auf der Reitanlage Blauensee (Mai)
DESCRIPTION:🎉 Einladung zum Fahrlehrgang mit Claudia Gschwind!\n\nDressur & Hindernisfahren mit eigenem Gespann – 30. & 31. Mai 2026\n\nDer RFV Waldburg lädt Dich herzlich zu einem ganz besonderen Wochenende ein!\nTrainiere mit Claudia Gschwind – Trainer B Fahren Leistungsport\, Trägerin des Goldenen Fahrabzeichens und Mitglied im Landeskader.\nEgal ob motivierter Einsteiger oder ambitionierter Turnierfahrer – hier kommst Du garantiert weiter!\n\n\n🚀 Was erwartet Dich?\n\n📅 Samstag\, 30. Mai 2026\n\n\n	2 Einheiten Dressur pro Teilnehmer\n\n\n📅 Sonntag\, 31. Mai 2026\n\n\n	1 Einheit Dressur\n	1 Einheit Kegelfahren\n\n\n✅ Der Lehrgang findet bei jeder Witterung statt.\n✅ Die Anmeldung ist verbindlich – bei Ausfall greift die Warteliste.\n\n\n📍 Ort\n\nReitanlage Blauensee – RFV Waldburg\n\nNavi‑Adresse:\n➡️ Reitanlage Blauensee\, 88289 Waldburg\n\n\n💶 Teilnahmegebühren\n\n\n	120 € pro Teilnehmer\n	zzgl. 5 € Anlagennutzung pro Tag für Nichtmitglieder\n\n\n\n👩‍🏫 Lehrgangsleitung & Anmeldung\n\nClaudia Gschwind\n📞 0170 5170172\n\nBitte beachte:\nFalls kein Ersatz über die Warteliste möglich ist\, muss selbst Ersatz gestellt oder der Lehrgang vollständig bezahlt werden.\n\n\n🙏 Dankeschön\n\nWir bedanken uns herzlich für die freundliche Bezuschussung durch WPSV und PSKO.\n\n\n \nPDF: https://psk-oberschwaben.de/site/assets/files/2486/2026-05-30-31_rfv_waldburg_fahren_mit_claudi_gschwind.pdf
LOCATION:RFV Waldburg\, Reitanlage Blauensee\, Kesenweiler (Blauensee)\, D - 88289 Waldburg
ATTACH:https://psk-oberschwaben.de/site/assets/files/2486/2026-05-30-31_rfv_waldburg_fahren_mit_claudi_gschwind.pdf
END:VEVENT
END:VCALENDAR
