BEGIN:VCALENDAR
VERSION:2.0
PRODID:-//PSK Oberschwaben//ICS Export//DE
CALSCALE:GREGORIAN
BEGIN:VTIMEZONE
TZID:Europe/Berlin
X-LIC-LOCATION:Europe/Berlin
BEGIN:DAYLIGHT
TZOFFSETFROM:+0100
TZOFFSETTO:+0200
TZNAME:CEST
DTSTART:19700329T020000
RRULE:FREQ=YEARLY;BYMONTH=3;BYDAY=-1SU
END:DAYLIGHT
BEGIN:STANDARD
TZOFFSETFROM:+0200
TZOFFSETTO:+0100
TZNAME:CET
DTSTART:19701025T030000
RRULE:FREQ=YEARLY;BYMONTH=10;BYDAY=-1SU
END:STANDARD
END:VTIMEZONE
BEGIN:VEVENT
UID:398640d84f3538d5389af9ce9af93852e0e2c06b@psk-oberschwaben.de
DTSTAMP:20260423T130349Z
DTSTART;TZID=Europe/Berlin:20260627T080000
DTEND;TZID=Europe/Berlin:20260628T180000
SUMMARY:🌟 PSKO-Fahrlehrgang-Serie 2026 mit Claudia Gschwind auf der Reitanlage Blauensee (Juni)
DESCRIPTION:🎉 Einladung zum Fahrlehrgang mit Claudia Gschwind!\n\nDressur & Hindernisfahren mit eigenem Gespann\n27. & 28. Juni 2026 – Reitanlage Blauensee\n\nMach dein Gespann fit und nutze die Chance\, mit Claudia Gschwind zu trainieren –\nTrainer B Fahren Leistungssport\, Trägerin des Goldenen Fahrabzeichens und Mitglied im Landeskader!\nZwei Tage voller Expertise\, Motivation und Fahrspaß warten auf dich. 🚀\n\n\n🗓 Ablauf\n\nSamstag\, 27. Juni 2026\n\n\n	2 Einheiten Dressur pro Teilnehmer\n\n\nSonntag\, 28. Juni 2026\n\n\n	1 Einheit Dressur\n	1 Einheit Kegelfahren \n\n\nDer Lehrgang findet bei jeder Witterung statt.\nDie Anmeldung ist verbindlich – bei Ausfall greift die Warteliste. \n\n\n📍 Ort\n\nReitanlage Blauensee – RFV Waldburg \n\n✅ Navi‑Adresse für die Anfahrt:\n\nReitanlage Blauensee\, 88289 Waldburg\n\nDamit findest du die Anlage direkt und ohne Umwege! 🚗💨\n\n\n💶 Kosten\n\n\n	120 € pro Teilnehmer\n	+ 5 € Anlagennutzung pro Tag für Nichtmitglieder \n\n\n\n👩‍🏫 Lehrgangsleitung & Anmeldung\n\nClaudia Gschwind\n📞 0170 5170172\n \n\nBitte beachten:\nWenn niemand auf der Warteliste steht\, muss selbst Ersatz organisiert oder die Lehrgangsgebühr komplett übernommen werden.\n\n\n🙏 Dankeschön\n\nDer RFV Waldburg bedankt sich für die freundliche Bezuschussung durch WPSV und PSKO.\n\n\n \nPDF: https://psk-oberschwaben.de/site/assets/files/2490/2026-06-27-28_rfv_waldburg_fahren_mit_claudi_gschwind.pdf
LOCATION:RFV Waldburg\, Reitanlage Blauensee\, Kesenweiler (Blauensee)\, D - 88289 Waldburg
ATTACH:https://psk-oberschwaben.de/site/assets/files/2490/2026-06-27-28_rfv_waldburg_fahren_mit_claudi_gschwind.pdf
END:VEVENT
END:VCALENDAR
